BEGIN:VCALENDAR
VERSION:2.0
PRODID:-//chikkutakku.com//RDFCal 1.0//EN
X-WR-CALDESC:GoogleカレンダーやiCalendar形式情報を共有シェ
 アしましょう。近所のイベントから全国のイベントま
 で今日のイベント検索やスケジュールを決めるならち
 っくたっく
X-WR-CALNAME:ちっくたっく
X-WR-TIMEZONE:UTC
BEGIN:VEVENT
SUMMARY:ハウフ ショートセレクション 幽霊船の話
DTSTART;VALUE=DATE:20260520
DTEND;VALUE=DATE:20260521
UID:193735401981
DESCRIPTION:2026-05-21ハウフ ショートセレクション 幽霊船
 の話ヴィルヘルム・ハウフ/酒寄進一/ヨシタケシンスケ
 理論社
LOCATION:
END:VEVENT
END:VCALENDAR
