BEGIN:VCALENDAR
VERSION:2.0
PRODID:-//chikkutakku.com//RDFCal 1.0//EN
X-WR-CALDESC:GoogleカレンダーやiCalendar形式情報を共有シェ
 アしましょう。近所のイベントから全国のイベントま
 で今日のイベント検索やスケジュールを決めるならち
 っくたっく
X-WR-CALNAME:ちっくたっく
X-WR-TIMEZONE:UTC
BEGIN:VEVENT
SUMMARY:พจ.ประชุม ศอ.ปส.จ.ศก. ครั้
 งที่ 4/2569 บูรณาการแก้ไขปัญหา
 ยาเสพติด มุ่งสู่ชุมชนเข้ม
 แข็งอย่างยั่งยืนวันที่ 20 เ
 ม.ย. 2569 เวลา 13.30 น. ณ ห้องประชุม
 ศรีพฤทเธศวร ชั้น 5 ศาลากลาง
 จังหวัดศรีสะเกษ อำเภอเมือ
 งศรีสะเกษ จังหวัดศรีสะเกษ
DTSTART;VALUE=DATE-TIME:20260420T060000Z
DTEND;VALUE=DATE-TIME:20260420T070000Z
UID:193824677874
DESCRIPTION:พจ.ประชุม ศอ.ปส.จ.ศก. ครั
 ้งที่ 4/2569 บูรณาการแก้ไขปัญห
 ายาเสพติด มุ่งสู่ชุมชนเข้
 มแข็งอย่างยั่งยืนวันที่ 20 
 เม.ย. 2569 เวลา 13.30 น. ณ ห้องประชุ
 มศรีพฤทเธศวร ชั้น 5 ศาลากลา
 งจังหวัดศรีสะเกษ อำเภอเมื
 องศรีสะเกษ จังหวัดศรีสะเก
 ษ
LOCATION:
END:VEVENT
END:VCALENDAR
