BEGIN:VCALENDAR
VERSION:2.0
PRODID:-//chikkutakku.com//RDFCal 1.0//EN
X-WR-CALDESC:GoogleカレンダーやiCalendar形式情報を共有シェ
 アしましょう。近所のイベントから全国のイベントま
 で今日のイベント検索やスケジュールを決めるならち
 っくたっく
X-WR-CALNAME:ちっくたっく
X-WR-TIMEZONE:UTC
BEGIN:VEVENT
SUMMARY:【注】ポンコツクエスト #92 祭 / #93 漂着 / #94 入
 替 / #95 副業 / #96 脱獄
DTSTART;VALUE=DATE-TIME:20260422T110000Z
DTEND;VALUE=DATE-TIME:20260422T113000Z
UID:193872673233
DESCRIPTION: / #92 祭 / #93 漂着 / #94 入替 / #95 副業 / #96 脱獄
  / https://abema.tv/channels/anime-live/slots/Ah77oXn8C2tWHd (無料TS1週
 間) ※リピート放送なし
LOCATION:アニメLIVE
END:VEVENT
END:VCALENDAR
