BEGIN:VCALENDAR
VERSION:2.0
PRODID:-//chikkutakku.com//RDFCal 1.0//EN
X-WR-CALDESC:GoogleカレンダーやiCalendar形式情報を共有シェ
 アしましょう。近所のイベントから全国のイベントま
 で今日のイベント検索やスケジュールを決めるならち
 っくたっく
X-WR-CALNAME:ちっくたっく
X-WR-TIMEZONE:UTC
BEGIN:VEVENT
SUMMARY:【Android 対応】ガジェット愛好会
DTSTART;VALUE=DATE-TIME:20260510T120000Z
DTEND;VALUE=DATE-TIME:20260510T130000Z
UID:194236107740
DESCRIPTION:【イベント主催者】\n　Keikou《けいこう》\n【
 イベント内容】\n　ガジェット愛好会は、ガジェット好
 きが集う発見と交流の場です。最新のテクノロジーや
 ガジェットについて語り合い、情報交換を楽しみまし
 ょう。初心者の方も、経験豊富な方も、静かに参加し
 たい方も、どなたでも大歓迎です。皆さまのご参加を
 心よりお待ちしています。\n【イベントジャンル】\n　
 その他交流会\n【参加条件（モデル、人数制限など）】
 \n　特になし\n【参加方法】\n　ガジェット愛好会(GCLUB.5
 169)のグループインスタンスにJOIN\n【備考】\n　https://x.c
 om/keikou440
LOCATION:
END:VEVENT
END:VCALENDAR
