BEGIN:VCALENDAR
VERSION:2.0
PRODID:-//chikkutakku.com//RDFCal 1.0//EN
X-WR-CALDESC:GoogleカレンダーやiCalendar形式情報を共有シェ
 アしましょう。近所のイベントから全国のイベントま
 で今日のイベント検索やスケジュールを決めるならち
 っくたっく
X-WR-CALNAME:ちっくたっく
X-WR-TIMEZONE:UTC
BEGIN:VEVENT
SUMMARY:メイドカフェBar とわえもあ
DTSTART;VALUE=DATE-TIME:20260420T120000Z
DTEND;VALUE=DATE-TIME:20260420T130000Z
UID:194435565317
DESCRIPTION:【イベント主催者】\n　あんこ\n【イベント内
 容】\n　みんなで楽しい思い出を作ることをコンセプト
 にしたメイドカフェイベントです!!\n可愛いメイドさん
 が精一杯の愛を込めてオムライスお絵描きさせていた
 だきます。\nメイド・スタッフ一同ご主人様とお嬢様の
 お帰りをお待ちしております♡\n【イベントジャンル】
 \n　ロールプレイ\, 初心者向けイベント\, 定期イベント
 \n【参加条件（モデル、人数制限など）】\n　# 参加条
 件\n\n- 日本語を理解・使用でき、スムーズな意思疎通
 が可能であること\n    - 無言勢はペンやチャットでの意
 思疎通をお願いいたします\n\n# アバター・ギミックに
 ついて\n\n- アバターのダウンロード容量は40MB以下にす
 ること\n    - 40MB以下でも、極端に重いアバターは変更
 をお願いする場合があります\n- 以下のアバターは禁止
 します\n    - 版権／NSFW／ネタアバター\n    - 極端に大き
 い／小さいアバター\n    - 過度なエフェクト・パーティ
 クル\n    - 武器ギミックの抜刀・発動\n    - その他運営
 判断でイベント運営に好ましくないと判断されるもの\n
 \n# 禁止事項\n\n- お客様からキャストへの意図的な接触
 行為\n- 許可なくVRCカメラ・その他ギミック等を使用す
 る行為\n- イベント中・イベント終了後のキャストへの
 フレンド申請・その他アプローチ\n    - イベント時間終
 了後のTwitterのフォローのみ可能とさせていただきます\
 n    (フォローバックを確約するものではありません)\n- 
 キャストや他のお客様への嫌がらせ・ハラスメント・
 ストーカー行為\n- 録画・録音・配信・撮影などの盗撮
 行為\n- 公序良俗・VRC規約に反する行為\n- その他、運営
 が不適切だと判断した行為\n【参加方法】\n　【参加方
 法】\n参加方法が【リクイン制】となっております\n\n
 事前にインスタンスリーダー（IL）にフレンド申請の上
 、\nインスタンスを1つだけ選び、\n20˸55に「招待をリク
 エスト」を「1回のみ」を送信してください。\n20˸55 リ
 クイン受付開始\n20˸58 リクイン締切\n21˸00 リクイン受
 け入れ開始\n\n詳しくはインスタンス表のTwitterをご確認
 ください\nhttps://x.com/toietmoi_vrc\n【備考】\n　https://x.com/t
 oietmoi_vrc
LOCATION:
END:VEVENT
END:VCALENDAR
