BEGIN:VCALENDAR
VERSION:2.0
PRODID:-//chikkutakku.com//RDFCal 1.0//EN
X-WR-CALDESC:GoogleカレンダーやiCalendar形式情報を共有シェ
 アしましょう。近所のイベントから全国のイベントま
 で今日のイベント検索やスケジュールを決めるならち
 っくたっく
X-WR-CALNAME:ちっくたっく
X-WR-TIMEZONE:UTC
BEGIN:VEVENT
SUMMARY:BEST STAGE 2026年6月号（SixTONES「MILESixTONES」）
DTSTART;VALUE=DATE:20260426
DTEND;VALUE=DATE:20260427
UID:194911748676
DESCRIPTION:https://x.com/Best_Stage/status/2046132989378330744
LOCATION:雑誌
END:VEVENT
END:VCALENDAR
