BEGIN:VCALENDAR
VERSION:2.0
PRODID:-//chikkutakku.com//RDFCal 1.0//EN
X-WR-CALDESC:GoogleカレンダーやiCalendar形式情報を共有シェ
 アしましょう。近所のイベントから全国のイベントま
 で今日のイベント検索やスケジュールを決めるならち
 っくたっく
X-WR-CALNAME:ちっくたっく
X-WR-TIMEZONE:UTC
BEGIN:VEVENT
SUMMARY:【Android 対応】ダーツひろば
DTSTART;VALUE=DATE-TIME:20260425T120000Z
DTEND;VALUE=DATE-TIME:20260425T125500Z
UID:195019156857
DESCRIPTION:【イベント主催者】\n　ダーツひろば\n【イベ
 ント内容】\n　【偶数月】クリケットで遊ぼう【開催】
 \n\n📅4/25(土) 21:00〜21:55\n\nダーツの主なルール3つのう
 ち【クリケット】で遊ぶ回です！ \nクリケットはルー
 ルの性質上、ある程度狙った場所に投げられることが
 前提になります。\n\n「まだコントロールに自信がない
 かも…」という方も、インストラクターがフォローし
 ますので安心してご参加ください。見学だけでも大歓
 迎！ \n\n・VRダーツに興味がある \n・VR/リアル問わずダ
 ーツが好き \n・投げ友を見つけたい \n・練習したい \n
 ・アドバイスがほしい \n・ダーツイベントに興味があ
 る \nそんな方向けのゆるめ交流イベントです。  \n\n時
 間を区切っての講習はありませんが、随時サポートし
 ます。 \n\n見学OK／途中入退場自由 お気軽にどうぞ！  \
 n【イベントジャンル】\n　その他交流会\, 初心者向け
 イベント\, 定期イベント\n【参加条件（モデル、人数制
 限など）】\n　・人型とわかるアバター\n【参加方法】\
 n　・時間になったらグループ+で開いてるワールドに参
 加\n【備考】\n　
LOCATION:
END:VEVENT
END:VCALENDAR
