BEGIN:VCALENDAR
VERSION:2.0
PRODID:-//chikkutakku.com//RDFCal 1.0//EN
X-WR-CALDESC:GoogleカレンダーやiCalendar形式情報を共有シェ
 アしましょう。近所のイベントから全国のイベントま
 で今日のイベント検索やスケジュールを決めるならち
 っくたっく
X-WR-CALNAME:ちっくたっく
X-WR-TIMEZONE:UTC
BEGIN:VEVENT
SUMMARY:素敵なあの人特別編集 音読で脳も声も若返る!
DTSTART;VALUE=DATE:20260520
DTEND;VALUE=DATE:20260521
UID:195374019077
DESCRIPTION:2026-05-21素敵なあの人特別編集 音読で脳も声も
 若返る!加藤 俊徳宝島社
LOCATION:
END:VEVENT
END:VCALENDAR
