BEGIN:VCALENDAR
VERSION:2.0
PRODID:-//chikkutakku.com//RDFCal 1.0//EN
X-WR-CALDESC:GoogleカレンダーやiCalendar形式情報を共有シェ
 アしましょう。近所のイベントから全国のイベントま
 で今日のイベント検索やスケジュールを決めるならち
 っくたっく
X-WR-CALNAME:ちっくたっく
X-WR-TIMEZONE:UTC
BEGIN:VEVENT
SUMMARY:ブライト・ノアの逆転マネジメント術 アムロで
 もシャアでもない男が、最高の結果を出し続けた秘密
DTSTART;VALUE=DATE:20260519
DTEND;VALUE=DATE:20260520
UID:195920217301
DESCRIPTION:2026-05-20ブライト・ノアの逆転マネジメント術 
 アムロでもシャアでもない男が、最高の結果を出し続
 けた秘密鈴木 博毅星海社
LOCATION:
END:VEVENT
END:VCALENDAR
