BEGIN:VCALENDAR
VERSION:2.0
PRODID:-//chikkutakku.com//RDFCal 1.0//EN
X-WR-CALDESC:GoogleカレンダーやiCalendar形式情報を共有シェ
 アしましょう。近所のイベントから全国のイベントま
 で今日のイベント検索やスケジュールを決めるならち
 っくたっく
X-WR-CALNAME:ちっくたっく
X-WR-TIMEZONE:UTC
BEGIN:VEVENT
SUMMARY:【楽天ブックス限定グッズ+楽天ブックス限定全
 巻購入特典+他】『SPY×FAMILY』Season 3 Vol.2 完全初回数量
 限定版(描き下ろしA5キャラファイングラフ(シリアルナ
 ンバー入り)+描き下ろし収納BOX+描き下ろしアクリルキ
 ーホルダー(2個セット)+他)
DTSTART;VALUE=DATE:20260519
DTEND;VALUE=DATE:20260520
UID:196089592483
DESCRIPTION:2026-05-20【楽天ブックス限定グッズ+楽天ブック
 ス限定全巻購入特典+他】『SPY×FAMILY』Season 3 Vol.2 完全
 初回数量限定版(描き下ろしA5キャラファイングラフ(シ
 リアルナンバー入り)+描き下ろし収納BOX+描き下ろしア
 クリルキーホルダー(2個セット)+他)遠藤達哉/江口拓也
 東宝(株)
LOCATION:
END:VEVENT
END:VCALENDAR
