BEGIN:VCALENDAR
VERSION:2.0
PRODID:-//chikkutakku.com//RDFCal 1.0//EN
X-WR-CALDESC:GoogleカレンダーやiCalendar形式情報を共有シェ
 アしましょう。近所のイベントから全国のイベントま
 で今日のイベント検索やスケジュールを決めるならち
 っくたっく
X-WR-CALNAME:ちっくたっく
X-WR-TIMEZONE:UTC
BEGIN:VEVENT
SUMMARY:RL-2 vs宝塚医療大学
DTSTART;VALUE=DATE-TIME:20260425T004500Z
DTEND;VALUE=DATE-TIME:20260425T024500Z
UID:197246670374
DESCRIPTION:RL-2 vs宝塚医療大学
LOCATION:関西国際大学 三木キャンパス\, 日本、〒673-0521 
 兵庫県三木市志染町青山１丁目１８
END:VEVENT
END:VCALENDAR
