BEGIN:VCALENDAR
VERSION:2.0
PRODID:-//chikkutakku.com//RDFCal 1.0//EN
X-WR-CALDESC:GoogleカレンダーやiCalendar形式情報を共有シェ
 アしましょう。近所のイベントから全国のイベントま
 で今日のイベント検索やスケジュールを決めるならち
 っくたっく
X-WR-CALNAME:ちっくたっく
X-WR-TIMEZONE:UTC
BEGIN:VEVENT
SUMMARY:【注】この素晴らしい世界に祝福を！2 #1 この不
 当な裁判に救援を！ / #2 この紅魔の娘に友人を！ / #3 
 この迷宮の主に安らぎを！ / #4 この貴族の令嬢に良縁
 を！ / #5 この仮面の騎士に隷属を！ / #6 この煩わしい
 外界にさよならを！ / #7 このふてぶてしい鈍らに招待
 を！ / #8 この痛々しい街で観光を！ / #9 この不浄な温
 泉街に女神を！ / #10 この素晴らしい仲間たちに祝福を
 ！ / #11 この素晴らしい芸術に祝福を！
DTSTART;VALUE=DATE-TIME:20260421T023000Z
DTEND;VALUE=DATE-TIME:20260421T083000Z
UID:197294331706
DESCRIPTION: / #1 この不当な裁判に救援を！ / #2 この紅魔
 の娘に友人を！ / #3 この迷宮の主に安らぎを！ / #4 こ
 の貴族の令嬢に良縁を！ / #5 この仮面の騎士に隷属を
 ！ / #6 この煩わしい外界にさよならを！ / #7 このふて
 ぶてしい鈍らに招待を！ / #8 この痛々しい街で観光を
 ！ / #9 この不浄な温泉街に女神を！ / #10 この素晴らし
 い仲間たちに祝福を！ / #11 この素晴らしい芸術に祝福
 を！ / ([[異世界・ファンタジー2 https://abema.tv/timetable/cha
 nnels/isekai-anime-2]]) https://abema.tv/channels/isekai-anime-2/slots/Ah7
 7pkrK5m9fAX リピート放送は 17:30～ https://abema.tv/channels/iseka
 i-anime-2/slots/AkN7W6xXgds3wD 、23:30～ https://abema.tv/channels/iseka
 i-anime-2/slots/Ah77pk31iRvFaf (無料TS2週間)
LOCATION:ABEMA特設その他
END:VEVENT
END:VCALENDAR
