BEGIN:VCALENDAR
VERSION:2.0
PRODID:-//chikkutakku.com//RDFCal 1.0//EN
X-WR-CALDESC:GoogleカレンダーやiCalendar形式情報を共有シェ
 アしましょう。近所のイベントから全国のイベントま
 で今日のイベント検索やスケジュールを決めるならち
 っくたっく
X-WR-CALNAME:ちっくたっく
X-WR-TIMEZONE:UTC
BEGIN:VEVENT
SUMMARY:めすがきっさロぅリぃ×おうちめすがきコラボ
DTSTART;VALUE=DATE-TIME:20260422T130000Z
DTEND;VALUE=DATE-TIME:20260422T140000Z
UID:197338258992
DESCRIPTION:【イベント主催者】\n　結城ひめ\n【イベント
 内容】\n　「メスガキ」をコンセプトにした雑談接客イ
 ベント！\nかわいいメスガキ改変をした子たちとおしゃ
 べりできます！\nメスガキRPができる子も多数所属！\n
 よわいお兄さんお姉さんはいっぱい煽られちゃうかも..
 .？\n\n本日はおうちめすがき様とのコラボ営業！\nロー
 テーション形式の営業です！\n【イベントジャンル】\n
 　店舗系イベント\, ロールプレイ\, 定期イベント\n【参
 加条件（モデル、人数制限など）】\n　\n【参加方法】\
 n　公式Xで告知されるインスタンスリーダーに21:55~21:58
 もリクイン\n【備考】\n　
LOCATION:
END:VEVENT
END:VCALENDAR
