BEGIN:VCALENDAR
VERSION:2.0
PRODID:-//chikkutakku.com//RDFCal 1.0//EN
X-WR-CALDESC:GoogleカレンダーやiCalendar形式情報を共有シェ
 アしましょう。近所のイベントから全国のイベントま
 で今日のイベント検索やスケジュールを決めるならち
 っくたっく
X-WR-CALNAME:ちっくたっく
X-WR-TIMEZONE:UTC
BEGIN:VEVENT
SUMMARY:e:新宿発8時15分 福岡#1(初日)
DTSTART;VALUE=DATE-TIME:20260522T090000Z
DTEND;VALUE=DATE-TIME:20260522T104500Z
UID:197401323493
DESCRIPTION:#ウエンツ瑛士\nhttps://www.siscompany.com/produce/lineup
 /shinjuku0815/\n#新宿0815
LOCATION:キャナルシティ劇場
END:VEVENT
END:VCALENDAR
