BEGIN:VCALENDAR
VERSION:2.0
PRODID:-//chikkutakku.com//RDFCal 1.0//EN
X-WR-CALDESC:GoogleカレンダーやiCalendar形式情報を共有シェ
 アしましょう。近所のイベントから全国のイベントま
 で今日のイベント検索やスケジュールを決めるならち
 っくたっく
X-WR-CALNAME:ちっくたっく
X-WR-TIMEZONE:UTC
BEGIN:VEVENT
SUMMARY:13:30S.P.Mライブ
DTSTART;VALUE=DATE:20260424
DTEND;VALUE=DATE:20260425
UID:197541116926
DESCRIPTION:2026.4.25(土)京都ゼスト御池 御幸町広場『S.P.Mラ
 イブ』START13:30-17:00◇観覧無料
LOCATION:
END:VEVENT
END:VCALENDAR
