BEGIN:VCALENDAR
VERSION:2.0
PRODID:-//chikkutakku.com//RDFCal 1.0//EN
X-WR-CALDESC:GoogleカレンダーやiCalendar形式情報を共有シェ
 アしましょう。近所のイベントから全国のイベントま
 で今日のイベント検索やスケジュールを決めるならち
 っくたっく
X-WR-CALNAME:ちっくたっく
X-WR-TIMEZONE:UTC
BEGIN:VEVENT
SUMMARY:イケボ喫茶 "Guarigione"
DTSTART;VALUE=DATE-TIME:20260519T130000Z
DTEND;VALUE=DATE-TIME:20260519T140000Z
UID:198019848530
DESCRIPTION:【イベント主催者】\n　RcXvr_ブラッコリー\n【
 イベント内容】\n　個性豊かな声を持つキャスト達と歓
 談をしながら、癒しのひとときをお過ごしください。
 あなた好みの"イケボ"を、探しに来てみませんか？　セ
 リフリクエストも受け付けております、是非キャスト
 にお声がけください。\n【イベントジャンル】\n　店舗
 系イベント\n【参加条件（モデル、人数制限など）】\n
 　イケボ好き、お話好き、VRC初心者にもおすすめ！\n【
 参加方法】\n　公式X(旧Twitter)発表のキャストへjoin\n【
 備考】\n　X：@vrc_guarigione
LOCATION:
END:VEVENT
END:VCALENDAR
