BEGIN:VCALENDAR
VERSION:2.0
PRODID:-//chikkutakku.com//RDFCal 1.0//EN
X-WR-CALDESC:GoogleカレンダーやiCalendar形式情報を共有シェ
 アしましょう。近所のイベントから全国のイベントま
 で今日のイベント検索やスケジュールを決めるならち
 っくたっく
X-WR-CALNAME:ちっくたっく
X-WR-TIMEZONE:UTC
BEGIN:VEVENT
SUMMARY:予備試験・司法試験 論文答案作成基本の「き」 
 憲法民法刑法
DTSTART;VALUE=DATE:20260429
DTEND;VALUE=DATE:20260430
UID:198054702523
DESCRIPTION:2026-04予備試験・司法試験 論文答案作成基本の
 「き」 憲法民法刑法西口竜司辰已法律研究所
LOCATION:
END:VEVENT
END:VCALENDAR
