BEGIN:VCALENDAR
VERSION:2.0
PRODID:-//chikkutakku.com//RDFCal 1.0//EN
X-WR-CALDESC:GoogleカレンダーやiCalendar形式情報を共有シェ
 アしましょう。近所のイベントから全国のイベントま
 で今日のイベント検索やスケジュールを決めるならち
 っくたっく
X-WR-CALNAME:ちっくたっく
X-WR-TIMEZONE:UTC
BEGIN:VEVENT
SUMMARY:図書館と戦争と民主主義の百年
DTSTART;VALUE=DATE:20260521
DTEND;VALUE=DATE:20260522
UID:198560138826
DESCRIPTION:2026-05-22図書館と戦争と民主主義の百年渡邊 重
 夫青弓社
LOCATION:
END:VEVENT
END:VCALENDAR
