BEGIN:VCALENDAR
VERSION:2.0
PRODID:-//chikkutakku.com//RDFCal 1.0//EN
X-WR-CALDESC:GoogleカレンダーやiCalendar形式情報を共有シェ
 アしましょう。近所のイベントから全国のイベントま
 で今日のイベント検索やスケジュールを決めるならち
 っくたっく
X-WR-CALNAME:ちっくたっく
X-WR-TIMEZONE:UTC
BEGIN:VEVENT
SUMMARY:U15-2nd、TRM
DTSTART;VALUE=DATE-TIME:20260425T090000Z
DTEND;VALUE=DATE-TIME:20260425T120000Z
UID:199845907308
DESCRIPTION:19時 vs ゼッセル（25分×4）\n\n※参加費800円\n\n
 ※メンバーは決まり次第掲載します。\n\n※担当\n鷲塚
 コーチ
LOCATION:SORA FIELD 1 （人工芝グラウンド1）\, 日本、〒590-05
 35 大阪府泉南市りんくう南浜２−２１１
END:VEVENT
END:VCALENDAR
