BEGIN:VCALENDAR
VERSION:2.0
PRODID:-//chikkutakku.com//RDFCal 1.0//EN
X-WR-CALDESC:GoogleカレンダーやiCalendar形式情報を共有シェ
 アしましょう。近所のイベントから全国のイベントま
 で今日のイベント検索やスケジュールを決めるならち
 っくたっく
X-WR-CALNAME:ちっくたっく
X-WR-TIMEZONE:UTC
BEGIN:VEVENT
SUMMARY:「信用力」を資産に変える！ 高収入サラリーマ
 ンのための不動産投資入門
DTSTART;VALUE=DATE:20260426
DTEND;VALUE=DATE:20260427
UID:199852541321
DESCRIPTION:2026-04-27「信用力」を資産に変える！ 高収入サ
 ラリーマンのための不動産投資入門田崎賢幻冬舎
LOCATION:
END:VEVENT
END:VCALENDAR
