BEGIN:VCALENDAR
VERSION:2.0
PRODID:-//chikkutakku.com//RDFCal 1.0//EN
X-WR-CALDESC:GoogleカレンダーやiCalendar形式情報を共有シェ
 アしましょう。近所のイベントから全国のイベントま
 で今日のイベント検索やスケジュールを決めるならち
 っくたっく
X-WR-CALNAME:ちっくたっく
X-WR-TIMEZONE:UTC
BEGIN:VEVENT
SUMMARY:史上最強オークさんの楽しい異世界ハーレムづく
 り（14）
DTSTART;VALUE=DATE:20260508
DTEND;VALUE=DATE:20260509
UID:200897552616
DESCRIPTION:2026-05-09史上最強オークさんの楽しい異世界ハ
 ーレムづくり（14）月夜 涙/みわべ さくら/月見 隆士小
 学館
LOCATION:
END:VEVENT
END:VCALENDAR
