BEGIN:VCALENDAR
VERSION:2.0
PRODID:-//chikkutakku.com//RDFCal 1.0//EN
X-WR-CALDESC:GoogleカレンダーやiCalendar形式情報を共有シェ
 アしましょう。近所のイベントから全国のイベントま
 で今日のイベント検索やスケジュールを決めるならち
 っくたっく
X-WR-CALNAME:ちっくたっく
X-WR-TIMEZONE:UTC
BEGIN:VEVENT
SUMMARY:それが声優！ #3 「WEBラジオ」
DTSTART;VALUE=DATE-TIME:20260420T230000Z
DTEND;VALUE=DATE-TIME:20260420T233000Z
UID:201663173158
DESCRIPTION:3 / WEBラジオ / 
LOCATION:TOKYO MX2
END:VEVENT
END:VCALENDAR
