BEGIN:VCALENDAR
VERSION:2.0
PRODID:-//chikkutakku.com//RDFCal 1.0//EN
X-WR-CALDESC:GoogleカレンダーやiCalendar形式情報を共有シェ
 アしましょう。近所のイベントから全国のイベントま
 で今日のイベント検索やスケジュールを決めるならち
 っくたっく
X-WR-CALNAME:ちっくたっく
X-WR-TIMEZONE:UTC
BEGIN:VEVENT
SUMMARY:Tribu presents SUN 2
DTSTART;VALUE=DATE:20260523
DTEND;VALUE=DATE:20260524
UID:202542454577
DESCRIPTION:2026年5月24日(日)『Tribu presents SUN 2』◆時間 : 開
 場 10:40 / 開演11:00◆会場 : 大塚Hearts ＋◆出演者：sommeil 
 sommeil / リノスタルジア / セカイシティ / kijō no kūron / M
 ANACLE◇◆◇――出演時間――◇◆◇LIVE : 11:50〜12:15特典
 会 : 13:10〜14:10◇チケット情報◇前売り¥3\,000  /当日¥3\
 ,500（1D代別）◆プレイガイド：https://livepocket.jp/e/20260524
 sun2
LOCATION:
END:VEVENT
END:VCALENDAR
