BEGIN:VCALENDAR
VERSION:2.0
PRODID:-//chikkutakku.com//RDFCal 1.0//EN
X-WR-CALDESC:GoogleカレンダーやiCalendar形式情報を共有シェ
 アしましょう。近所のイベントから全国のイベントま
 で今日のイベント検索やスケジュールを決めるならち
 っくたっく
X-WR-CALNAME:ちっくたっく
X-WR-TIMEZONE:UTC
BEGIN:VEVENT
SUMMARY:ICS 300 - Medicine Hat
DTSTART;VALUE=DATE-TIME:20260505T150000Z
DTEND;VALUE=DATE-TIME:20260507T230000Z
UID:202712503355
DESCRIPTION:Medicine Hat Police Community Boardroom\n884 2 St SE\nMedicine
  Hat\, AB\n\nContact: Registration and inquiries - emergencymanagement@med
 icinehat.ca\n\nNotes: Open to EM partners\n\n**Pre-requisite: ICS 200 from
  an approved provider (online not accepted)**
LOCATION:Medicine Hat Police Service\, 884 2 St SE\, Medicine Hat\, AB T1A
  0E6\, Canada
END:VEVENT
END:VCALENDAR
