BEGIN:VCALENDAR
VERSION:2.0
PRODID:-//chikkutakku.com//RDFCal 1.0//EN
X-WR-CALDESC:GoogleカレンダーやiCalendar形式情報を共有シェ
 アしましょう。近所のイベントから全国のイベントま
 で今日のイベント検索やスケジュールを決めるならち
 っくたっく
X-WR-CALNAME:ちっくたっく
X-WR-TIMEZONE:UTC
BEGIN:VEVENT
SUMMARY:杉崎ゆきる 30th Anniversary Artworks illustagraphia Valfart
 （1）
DTSTART;VALUE=DATE:20260521
DTEND;VALUE=DATE:20260522
UID:202924754965
DESCRIPTION:2026-05-22杉崎ゆきる 30th Anniversary Artworks illustagra
 phia Valfart（1）杉崎 ゆきるKADOKAWA
LOCATION:
END:VEVENT
END:VCALENDAR
