BEGIN:VCALENDAR
VERSION:2.0
PRODID:-//chikkutakku.com//RDFCal 1.0//EN
X-WR-CALDESC:GoogleカレンダーやiCalendar形式情報を共有シェ
 アしましょう。近所のイベントから全国のイベントま
 で今日のイベント検索やスケジュールを決めるならち
 っくたっく
X-WR-CALNAME:ちっくたっく
X-WR-TIMEZONE:UTC
BEGIN:VEVENT
SUMMARY:【ペンギンBAR】SnowCrystal
DTSTART;VALUE=DATE-TIME:20260426T130000Z
DTEND;VALUE=DATE-TIME:20260426T140000Z
UID:202987610842
DESCRIPTION:【イベント主催者】\n　Pastel0122\n【イベント内
 容】\n　個性豊かなペンギンたちが営むBARイベントです
 。\n当イベントならではの独創的かつ個性的なカクテル
 を多数ご提供いたします。\n【イベントジャンル】\n　
 店舗系イベント\, 初心者向けイベント\, 定期イベント\n
 【参加条件（モデル、人数制限など）】\n　【推奨事項
 】\nダウンロードサイズが50MB以内\n【お願い事項】\n背
 丈があまりにも大きいアバターの使用、モラルに反す
 る行為はご遠慮ください。\n【参加方法】\n　SnowCrystal
 のGroupにご参加の上、22:00～開かれるグループインスタ
 ンスにお入りください。\n【GroupID:SNOWCR.0433】\n【備考】
 \n　
LOCATION:
END:VEVENT
END:VCALENDAR
