BEGIN:VCALENDAR
VERSION:2.0
PRODID:-//chikkutakku.com//RDFCal 1.0//EN
X-WR-CALDESC:GoogleカレンダーやiCalendar形式情報を共有シェ
 アしましょう。近所のイベントから全国のイベントま
 で今日のイベント検索やスケジュールを決めるならち
 っくたっく
X-WR-CALNAME:ちっくたっく
X-WR-TIMEZONE:UTC
BEGIN:VEVENT
SUMMARY:人手不足時代を勝ち抜く 企業のための「介護離
 職防止」の教科書
DTSTART;VALUE=DATE:20260427
DTEND;VALUE=DATE:20260428
UID:203367966249
DESCRIPTION:2026-04-28人手不足時代を勝ち抜く 企業のための
 「介護離職防止」の教科書村元 正明彩図社
LOCATION:
END:VEVENT
END:VCALENDAR
