BEGIN:VCALENDAR
VERSION:2.0
PRODID:-//chikkutakku.com//RDFCal 1.0//EN
X-WR-CALDESC:GoogleカレンダーやiCalendar形式情報を共有シェ
 アしましょう。近所のイベントから全国のイベントま
 で今日のイベント検索やスケジュールを決めるならち
 っくたっく
X-WR-CALNAME:ちっくたっく
X-WR-TIMEZONE:UTC
BEGIN:VEVENT
SUMMARY:13:00 LIVE at ICORA NO MORI HALL
DTSTART;VALUE=DATE:20260424
DTEND;VALUE=DATE:20260425
UID:203814664522
DESCRIPTION:4/25(土)大阪・泉佐野「いこらも～る」『いこ
 らの森ホール』でライブをさせて頂きます🎼大阪府泉
 佐野市下瓦屋2-2-77「いこらも～る泉佐野」2階*観覧無料
 White Flameは13時半～出演 13:00-15:30いそげやコラボレーシ
 ョン・White Flame・柏夕子・yamamoto
LOCATION:
END:VEVENT
END:VCALENDAR
