BEGIN:VCALENDAR
VERSION:2.0
PRODID:-//chikkutakku.com//RDFCal 1.0//EN
X-WR-CALDESC:GoogleカレンダーやiCalendar形式情報を共有シェ
 アしましょう。近所のイベントから全国のイベントま
 で今日のイベント検索やスケジュールを決めるならち
 っくたっく
X-WR-CALNAME:ちっくたっく
X-WR-TIMEZONE:UTC
BEGIN:VEVENT
SUMMARY:玖月琴美のゆるばん 第一部完結編 玖月琴美【ほ
 ぼほぼ】ワンマン
DTSTART;VALUE=DATE:20260426
DTEND;VALUE=DATE:20260427
UID:204213415905
DESCRIPTION:#玖月琴美のゆるばん 追加公演!!\n第一部完結
 編\n玖月琴美【ほぼほぼ】ワンマン\n開催決定!!\n⠀\n2026
 /4/27(月)荻窪club Doctor\n開場18:30/開演19:00\n料金：2\,500円+1
 D代\n⠀\n出演：\n玖月琴美\nGt. 森岡慶\nBa. キーボー\nDr. 
 染谷剛\n+ Guest有り!?\n⠀\nご予約はこちら\n▶︎ tiget.net/e
 vents/482629⠀\n⠀
LOCATION:OGIKUBO club Doctor\, 日本、〒167-0043 東京都杉並区上
 荻１丁目１６−１０ B１
END:VEVENT
END:VCALENDAR
