BEGIN:VCALENDAR
VERSION:2.0
PRODID:-//chikkutakku.com//RDFCal 1.0//EN
X-WR-CALDESC:GoogleカレンダーやiCalendar形式情報を共有シェ
 アしましょう。近所のイベントから全国のイベントま
 で今日のイベント検索やスケジュールを決めるならち
 っくたっく
X-WR-CALNAME:ちっくたっく
X-WR-TIMEZONE:UTC
BEGIN:VEVENT
SUMMARY:第120回黒孔雀(DJイベント) 
DTSTART;VALUE=DATE-TIME:20260423T131000Z
DTEND;VALUE=DATE-TIME:20260423T145900Z
UID:204414545133
DESCRIPTION:【イベント主催者】\n　Chitose（ちとせ）\n【イ
 ベント内容】\n　クリエイターグループ黒孔雀の主催ち
 とせがワールドディレクションおよびメインVJを担当。
 高い技術力で実現される最高峰のフロア演出と音響で
 電子音楽お楽しみください。\n【イベントジャンル】\n
 　音楽系イベント\n【参加条件（モデル、人数制限など
 ）】\n　とくになし\n【参加方法】\n　group+(参加者にjoin
 )\n【備考】\n　https://vrchat.com/home/user/usr_0270b455-14c2-4af0-96
 c6-d52aba76dd69 https://vrc.group/QQQ.8578\n主催のプロフィールと
 イベントのグループです。こちらからjoinすることもで
 きます。
LOCATION:
END:VEVENT
END:VCALENDAR
