BEGIN:VCALENDAR
VERSION:2.0
PRODID:-//chikkutakku.com//RDFCal 1.0//EN
X-WR-CALDESC:GoogleカレンダーやiCalendar形式情報を共有シェ
 アしましょう。近所のイベントから全国のイベントま
 で今日のイベント検索やスケジュールを決めるならち
 っくたっく
X-WR-CALNAME:ちっくたっく
X-WR-TIMEZONE:UTC
BEGIN:VEVENT
SUMMARY:Hartley 16 Regatta
DTSTART;VALUE=DATE:20260516
DTEND;VALUE=DATE:20260517
UID:204442762578
DESCRIPTION:Gates Open:       08:45amRace Start:          09:45am
 High Tide:            11:11amTide Height:        4.2OOD:  TBC
LOCATION:
END:VEVENT
END:VCALENDAR
