BEGIN:VCALENDAR
VERSION:2.0
PRODID:-//chikkutakku.com//RDFCal 1.0//EN
X-WR-CALDESC:GoogleカレンダーやiCalendar形式情報を共有シェ
 アしましょう。近所のイベントから全国のイベントま
 で今日のイベント検索やスケジュールを決めるならち
 っくたっく
X-WR-CALNAME:ちっくたっく
X-WR-TIMEZONE:UTC
BEGIN:VEVENT
SUMMARY:裏社会系RP交流会【Nox Atra】初心者向けRP練習場
DTSTART;VALUE=DATE-TIME:20260425T115000Z
DTEND;VALUE=DATE-TIME:20260425T133000Z
UID:204464318656
DESCRIPTION:【イベント主催者】\n　wiseman-dayo\n【イベント
 内容】\n　RP初心者の方がRP練習を気軽にできるイベン
 トを目指しております。\nイベントキャストと交流する
 もよし参加者同士で交流するのもよし　\n裏社会を舞台
 にしたRP交流会（集会型フリートーク形式\n【イベント
 ジャンル】\n　その他交流会\, ロールプレイ\, 初心者向
 けイベント\n【参加条件（モデル、人数制限など）】\n
 　イベントルールは以下のURLから\n必ずルール確認をし
 てからイベント参加をお願い致します。\nhttps://noxatravrc
 .wixsite.com/nox-atra-vrc/guideline\n【参加方法】\n　20時50分に
 なりましたら「Groupインスタンスへjoin」\n参加にはGroup
 加入申請が必要となります。\nhttps://vrc.group/NOXATR.3534\n
 承認式の為、事前に加入申請を送る事を推奨いたしま
 す。\nイベント入場受付時間21時まで\n【備考】\n　身長
 130㎝以上\n多くお客様にご来場いただきたい為\nアバタ
 ーダウンロード容量30MB以内でお願い致します。\nコチ
 ラで公式レンタルアバター貸出もご用意しております
LOCATION:
END:VEVENT
END:VCALENDAR
