BEGIN:VCALENDAR
VERSION:2.0
PRODID:-//chikkutakku.com//RDFCal 1.0//EN
X-WR-CALDESC:GoogleカレンダーやiCalendar形式情報を共有シェ
 アしましょう。近所のイベントから全国のイベントま
 で今日のイベント検索やスケジュールを決めるならち
 っくたっく
X-WR-CALNAME:ちっくたっく
X-WR-TIMEZONE:UTC
BEGIN:VEVENT
SUMMARY:早乙女かなめ（MEWCATUNE）＠アイ推しトークvol.24
DTSTART;VALUE=DATE-TIME:20260420T103000Z
DTEND;VALUE=DATE-TIME:20260420T120000Z
UID:204620346109
DESCRIPTION:アイ推しトークvol.24\n\n4/20(月)\n開場 19:00 / 開
 演 19:30\nネイキッドロフト横浜\n\nhttps://loft-prj.co.jp/schedu
 le/naked/351251\n(4/13 18時〜)\n\n蒼川加純（えいぷりるふー
 る）\n岩村華\n早乙女かなめ（MEWCATUNE）\n新倉のあ\nMC：
 寺田寛明\n\n内容\nアイドルたちがグループの垣根を超
 えて大集合！ゲストのルーティンやこだわり、最新情
 報を掘り下げていくトークイベント！\n\n料金\nプレミ
 アチケット¥6\,000\n※限定6名様\n※別途1オーダーが必要
 となります\n※最前席の確保\n※質問コーナーにて必須
 でコメント読み上げあり\n\n通常チケット¥3\,500\n※別途
 1オーダーが必要となります\n※当日券＋500円\n\n配信チ
 ケット\n2\,000円\n※2週間アーカイブあり\n\n抽選会あり(
 エンディング)\nご来場の方のみ出演者全員のサイン入
 り色紙が当たる抽選会がございます。\n※2品目の飲食
 のオーダーから抽選券を1品に付き1枚お配りしておりま
 す。推しへの差し入れをされた場合は1品に付き、2枚お
 配りします。\n特典会\nチェキor写メ 1枚 2\,000円\n※サイ
 ン付き\n※キャストによってレギュレーションが異なる
 場合がございます\n入場順\n①プレミアム(事前決済)\n②
 通常(事前決済)\n③予約(当日精算)\n④当日券\n※番号順
 でご案内します
LOCATION:NAKED LOFT YOKOHAMA\, 日本、〒220-0005 神奈川県横浜市
 西区南幸２丁目１−２２ 相鉄ムービル
END:VEVENT
END:VCALENDAR
