BEGIN:VCALENDAR
VERSION:2.0
PRODID:-//chikkutakku.com//RDFCal 1.0//EN
X-WR-CALDESC:GoogleカレンダーやiCalendar形式情報を共有シェ
 アしましょう。近所のイベントから全国のイベントま
 で今日のイベント検索やスケジュールを決めるならち
 っくたっく
X-WR-CALNAME:ちっくたっく
X-WR-TIMEZONE:UTC
BEGIN:VEVENT
SUMMARY:高校受験で成功する! 中学生のケアレスミス防止
 バイブル うっかりミスをなくして得点力をアップする
DTSTART;VALUE=DATE:20260518
DTEND;VALUE=DATE:20260519
UID:205086945196
DESCRIPTION:2026-05-19高校受験で成功する! 中学生のケアレ
 スミス防止バイブル うっかりミスをなくして得点力を
 アップする石田 勝紀メイツ出版
LOCATION:
END:VEVENT
END:VCALENDAR
