BEGIN:VCALENDAR
VERSION:2.0
PRODID:-//chikkutakku.com//RDFCal 1.0//EN
X-WR-CALDESC:GoogleカレンダーやiCalendar形式情報を共有シェ
 アしましょう。近所のイベントから全国のイベントま
 で今日のイベント検索やスケジュールを決めるならち
 っくたっく
X-WR-CALNAME:ちっくたっく
X-WR-TIMEZONE:UTC
BEGIN:VEVENT
SUMMARY:日本史 格下げ偉人と格上げ偉人
DTSTART;VALUE=DATE:20260521
DTEND;VALUE=DATE:20260522
UID:205301707037
DESCRIPTION:2026-05-22日本史 格下げ偉人と格上げ偉人小和田
  哲男宝島社
LOCATION:
END:VEVENT
END:VCALENDAR
