BEGIN:VCALENDAR
VERSION:2.0
PRODID:-//chikkutakku.com//RDFCal 1.0//EN
X-WR-CALDESC:GoogleカレンダーやiCalendar形式情報を共有シェ
 アしましょう。近所のイベントから全国のイベントま
 で今日のイベント検索やスケジュールを決めるならち
 っくたっく
X-WR-CALNAME:ちっくたっく
X-WR-TIMEZONE:UTC
BEGIN:VEVENT
SUMMARY:【Android 対応】VRC北海道集会
DTSTART;VALUE=DATE-TIME:20260428T120000Z
DTEND;VALUE=DATE-TIME:20260428T130000Z
UID:205702503584
DESCRIPTION:【イベント主催者】\n　clove2122\n【イベント内
 容】\n　VRC北海道集会は北海道に住んでいる(住んでい
 た)人や、北海道に興味がある人が集まってゆるく雑談
 を楽しむイベントです！\n【イベントジャンル】\n　そ
 の他交流会\, 初心者向けイベント\, 定期イベント\n【参
 加条件（モデル、人数制限など）】\n　\n【参加方法】\
 n　clove2122 へフレンド申請後、時間になったらjoinして
 ください\n【備考】\n　https://x.com/clove2122/status/204543300283
 5283995 
LOCATION:
END:VEVENT
END:VCALENDAR
