BEGIN:VCALENDAR
VERSION:2.0
PRODID:-//chikkutakku.com//RDFCal 1.0//EN
X-WR-CALDESC:GoogleカレンダーやiCalendar形式情報を共有シェ
 アしましょう。近所のイベントから全国のイベントま
 で今日のイベント検索やスケジュールを決めるならち
 っくたっく
X-WR-CALNAME:ちっくたっく
X-WR-TIMEZONE:UTC
BEGIN:VEVENT
SUMMARY:俺じゃねぇとダメなくせに〜この男、愛し方も超
 一流4
DTSTART;VALUE=DATE:20260517
DTEND;VALUE=DATE:20260518
UID:205956745462
DESCRIPTION:2026-05-18俺じゃねぇとダメなくせに〜この男、
 愛し方も超一流4真純想モバイルメディアリサーチ
LOCATION:
END:VEVENT
END:VCALENDAR
