BEGIN:VCALENDAR
VERSION:2.0
PRODID:-//chikkutakku.com//RDFCal 1.0//EN
X-WR-CALDESC:GoogleカレンダーやiCalendar形式情報を共有シェ
 アしましょう。近所のイベントから全国のイベントま
 で今日のイベント検索やスケジュールを決めるならち
 っくたっく
X-WR-CALNAME:ちっくたっく
X-WR-TIMEZONE:UTC
BEGIN:VEVENT
SUMMARY:わたしが恋人になれるわけないじゃん、ムリムリ
 ！ （※ムリじゃなかった!?） 9
DTSTART;VALUE=DATE:20260518
DTEND;VALUE=DATE:20260519
UID:206080773829
DESCRIPTION:2026-05-19わたしが恋人になれるわけないじゃん
 、ムリムリ！ （※ムリじゃなかった!?） 9むっしゅ/み
 かみ てれん/竹嶋 えく集英社
LOCATION:
END:VEVENT
END:VCALENDAR
