BEGIN:VCALENDAR
VERSION:2.0
PRODID:-//chikkutakku.com//RDFCal 1.0//EN
X-WR-CALDESC:GoogleカレンダーやiCalendar形式情報を共有シェ
 アしましょう。近所のイベントから全国のイベントま
 で今日のイベント検索やスケジュールを決めるならち
 っくたっく
X-WR-CALNAME:ちっくたっく
X-WR-TIMEZONE:UTC
BEGIN:VEVENT
SUMMARY:【楽天ブックス限定特典】ヨッシーとフカシギの
 図鑑(2連アクリルキーホルダー)
DTSTART;VALUE=DATE:20260520
DTEND;VALUE=DATE:20260521
UID:206665899529
DESCRIPTION:2026-05-21【楽天ブックス限定特典】ヨッシーと
 フカシギの図鑑(2連アクリルキーホルダー)任天堂
LOCATION:
END:VEVENT
END:VCALENDAR
