BEGIN:VCALENDAR
VERSION:2.0
PRODID:-//chikkutakku.com//RDFCal 1.0//EN
X-WR-CALDESC:GoogleカレンダーやiCalendar形式情報を共有シェ
 アしましょう。近所のイベントから全国のイベントま
 で今日のイベント検索やスケジュールを決めるならち
 っくたっく
X-WR-CALNAME:ちっくたっく
X-WR-TIMEZONE:UTC
BEGIN:VEVENT
SUMMARY:異世界-ラピス-
DTSTART;VALUE=DATE-TIME:20260421T120000Z
DTEND;VALUE=DATE-TIME:20260421T131500Z
UID:206952786141
DESCRIPTION:【イベント主催者】\n　リュミエル・クロイツ
 \n【イベント内容】\n　異世界コンセプトのホストイベ
 ントです！ 第1・第3 火曜日21:30～開催! 天界の住人や魔
 界の住人たちがホストとしてお相手するRPイベントにな
 っています！詳しくは公式Xまで(@Isekai_Lapis)\n【イベン
 トジャンル】\n　店舗系イベント\, ロールプレイ\, 定期
 イベント\n【参加条件（モデル、人数制限など）】\n　
 日本語話者、人型アバター（50MB以下のアバター推奨）\
 n【参加方法】\n　備考欄記載のアカウントにフレンド
 リクエストの上、「21:00」に「１回だけ」リクインをお
 願いします。\n【備考】\n　https://vrchat.com/home/user/usr_4628
 c7e1-84be-4e3d-8c72-bc3045e0ebc1
LOCATION:
END:VEVENT
END:VCALENDAR
