BEGIN:VCALENDAR
VERSION:2.0
PRODID:-//chikkutakku.com//RDFCal 1.0//EN
X-WR-CALDESC:GoogleカレンダーやiCalendar形式情報を共有シェ
 アしましょう。近所のイベントから全国のイベントま
 で今日のイベント検索やスケジュールを決めるならち
 っくたっく
X-WR-CALNAME:ちっくたっく
X-WR-TIMEZONE:UTC
BEGIN:VEVENT
SUMMARY:Girls Rugby 7s - State Finals - Yr 6
DTSTART;VALUE=DATE-TIME:20260521T223000Z
DTEND;VALUE=DATE-TIME:20260522T050000Z
UID:207345076680
DESCRIPTION:Girls Rugby 7s - State Finals - Yr 6
LOCATION:Granville Park\, 2 Montrose Ave\, Merrylands NSW 2160\, Australia
END:VEVENT
END:VCALENDAR
