BEGIN:VCALENDAR
VERSION:2.0
PRODID:-//chikkutakku.com//RDFCal 1.0//EN
X-WR-CALDESC:GoogleカレンダーやiCalendar形式情報を共有シェ
 アしましょう。近所のイベントから全国のイベントま
 で今日のイベント検索やスケジュールを決めるならち
 っくたっく
X-WR-CALNAME:ちっくたっく
X-WR-TIMEZONE:UTC
BEGIN:VEVENT
SUMMARY:BAR Sera albero
DTSTART;VALUE=DATE-TIME:20260424T130000Z
DTEND;VALUE=DATE-TIME:20260424T135000Z
UID:207692854873
DESCRIPTION:【イベント主催者】\n　SINO／シノ\n【イベント
 内容】\n　Group Joinにて開店するローテーション形式のBA
 Rイベントです。（入退店自由）\n―――週末の夜。蛍
 が舞う森の中。穏やかで賑やかなひと時を過ごしませ
 んか？\n【イベントジャンル】\n　店舗系イベント\, 初
 心者向けイベント\, 定期イベント\n【参加条件（モデル
 、人数制限など）】\n　PC環境があればデスクトップ・V
 R問わず参加が可能です。参加する際のアバターはセン
 シティブでないもの及び過度に巨大でなければOKです。
 \n【参加方法】\n　時間になりましたらGroupインスタン
 スへの参加をお願いします。\n【備考】\n　来店には店
 舗グループへの参加が必要となりますのでご注意くだ
 さい。https://vrc.group/BARSAG.6024
LOCATION:
END:VEVENT
END:VCALENDAR
