BEGIN:VCALENDAR
VERSION:2.0
PRODID:-//chikkutakku.com//RDFCal 1.0//EN
X-WR-CALDESC:GoogleカレンダーやiCalendar形式情報を共有シェ
 アしましょう。近所のイベントから全国のイベントま
 で今日のイベント検索やスケジュールを決めるならち
 っくたっく
X-WR-CALNAME:ちっくたっく
X-WR-TIMEZONE:UTC
BEGIN:VEVENT
SUMMARY:ライアーダンサー【電子特典付き】
DTSTART;VALUE=DATE:20260423
DTEND;VALUE=DATE:20260424
UID:207892353940
DESCRIPTION:2026-04-24ライアーダンサー【電子特典付き】久
 追 遥希/アマネ　レイ/マサラダKADOKAWA
LOCATION:
END:VEVENT
END:VCALENDAR
