BEGIN:VCALENDAR
VERSION:2.0
PRODID:-//chikkutakku.com//RDFCal 1.0//EN
X-WR-CALDESC:GoogleカレンダーやiCalendar形式情報を共有シェ
 アしましょう。近所のイベントから全国のイベントま
 で今日のイベント検索やスケジュールを決めるならち
 っくたっく
X-WR-CALNAME:ちっくたっく
X-WR-TIMEZONE:UTC
BEGIN:VEVENT
SUMMARY:6年生　春日丘カップ　茨木工科高校　9時20分〜15
 時
DTSTART;VALUE=DATE-TIME:20260426T002000Z
DTEND;VALUE=DATE-TIME:20260426T060000Z
UID:207987237295
DESCRIPTION:6年生　春日丘カップ　茨木工科高校　9時20分
 〜15時
LOCATION:
END:VEVENT
END:VCALENDAR
