BEGIN:VCALENDAR
VERSION:2.0
PRODID:-//chikkutakku.com//RDFCal 1.0//EN
X-WR-CALDESC:GoogleカレンダーやiCalendar形式情報を共有シェ
 アしましょう。近所のイベントから全国のイベントま
 で今日のイベント検索やスケジュールを決めるならち
 っくたっく
X-WR-CALNAME:ちっくたっく
X-WR-TIMEZONE:UTC
BEGIN:VEVENT
SUMMARY:【個室接客型1:1対話イベント】ウルタール -Ulthar-
DTSTART;VALUE=DATE-TIME:20260421T125000Z
DTEND;VALUE=DATE-TIME:20260421T140000Z
UID:208582900055
DESCRIPTION:【イベント主催者】\n　Moco\n【イベント内容】
 \n　ウルタールは個室にて1対1でお話を楽しむイベント
 です。\n非指名制の3ローテーションで接客いたします
 。\n魅力的な猫達のおもてなしをお楽しみ下さい。\n\n
 【リクイン受付】\n21:50~21:53で受付\nその後リクインの
 中から抽選し、21:55を目安にインバイトを送ります。\n
 インバイト受信後はすみやかにJoinをお願いいたします
 。\n※リクイン先は参加方法へ記載\n\n参加される場合
 は下記告知ポストからルールをご確認の上、ご参加を
 お願いいたします。\nhttps://x.com/Ulthar_VRC/status/2040354587622
 940845\n【イベントジャンル】\n　店舗系イベント\n【参
 加条件（モデル、人数制限など）】\n　PCまたはPCVR\n【
 参加方法】\n　【参加方法】\nインスタンスリーダーへ
 フレンド申請後、21:50にリクイン\n※リクインは"1回"ま
 で\n※インスタンスリーダー：ˇさえˇ\nhttps://vrchat.com/ho
 me/user/usr_55d2d558-0aa1-434d-aee7-d118f3492ddc\n【備考】\n　https:/
 /x.com/Ulthar_VRC/status/2040354587622940845
LOCATION:
END:VEVENT
END:VCALENDAR
