BEGIN:VCALENDAR
VERSION:2.0
PRODID:-//chikkutakku.com//RDFCal 1.0//EN
X-WR-CALDESC:GoogleカレンダーやiCalendar形式情報を共有シェ
 アしましょう。近所のイベントから全国のイベントま
 で今日のイベント検索やスケジュールを決めるならち
 っくたっく
X-WR-CALNAME:ちっくたっく
X-WR-TIMEZONE:UTC
BEGIN:VEVENT
SUMMARY:114-2第一次校園霸凌防制委員會
DTSTART;VALUE=DATE-TIME:20260427T053000Z
DTEND;VALUE=DATE-TIME:20260427T070000Z
UID:208679666177
DESCRIPTION:114-2第一次校園霸凌防制委員會
LOCATION:
END:VEVENT
END:VCALENDAR
