BEGIN:VCALENDAR
VERSION:2.0
PRODID:-//chikkutakku.com//RDFCal 1.0//EN
X-WR-CALDESC:GoogleカレンダーやiCalendar形式情報を共有シェ
 アしましょう。近所のイベントから全国のイベントま
 で今日のイベント検索やスケジュールを決めるならち
 っくたっく
X-WR-CALNAME:ちっくたっく
X-WR-TIMEZONE:UTC
BEGIN:VEVENT
SUMMARY:May Crowning (C)(SL)
DTSTART;VALUE=DATE-TIME:20260501T130000Z
DTEND;VALUE=DATE-TIME:20260501T170000Z
UID:208745777159
DESCRIPTION:May Crowning (C)(SL)
LOCATION:Church and Social Level 
END:VEVENT
END:VCALENDAR
