BEGIN:VCALENDAR
VERSION:2.0
PRODID:-//chikkutakku.com//RDFCal 1.0//EN
X-WR-CALDESC:GoogleカレンダーやiCalendar形式情報を共有シェ
 アしましょう。近所のイベントから全国のイベントま
 で今日のイベント検索やスケジュールを決めるならち
 っくたっく
X-WR-CALNAME:ちっくたっく
X-WR-TIMEZONE:UTC
BEGIN:VEVENT
SUMMARY:【社団】新ペンギンひかり勉強会（申し込み編）
DTSTART;VALUE=DATE-TIME:20260514T010000Z
DTEND;VALUE=DATE-TIME:20260514T020000Z
UID:208884225545
DESCRIPTION:ペンギンひかりに関する研修です。申し込み
 編※商品知識編とは異なります。※ルーター選び＆ト
 ラブル対処編とは異なります。https://us02web.zoom.us/j/851385
 12879?pwd=qd5i0MVvgeLtlGYQuqv5WotBc9AhBs.1ウェビナーID：851 3851 287
 9パスワード：111111
LOCATION:
END:VEVENT
END:VCALENDAR
