BEGIN:VCALENDAR
VERSION:2.0
PRODID:-//chikkutakku.com//RDFCal 1.0//EN
X-WR-CALDESC:GoogleカレンダーやiCalendar形式情報を共有シェ
 アしましょう。近所のイベントから全国のイベントま
 で今日のイベント検索やスケジュールを決めるならち
 っくたっく
X-WR-CALNAME:ちっくたっく
X-WR-TIMEZONE:UTC
BEGIN:VEVENT
SUMMARY:ร่วมเป็นเกียรติในพิธีพ
 ระราชทานปริญญาบัตร และงาน
 เลี้ยงแสดงความยินดี 
DTSTART;VALUE=DATE-TIME:20260426T000000Z
DTEND;VALUE=DATE-TIME:20260426T020000Z
UID:208929767857
DESCRIPTION:通过 Google Meet 加入：https://meet.google.com/drm-pqwi-f
 hx\n或者拨打以下号码：(TH) +66 2 844 9331 PIN 码： 478660681181
 1#\n更多电话号码: https://tel.meet/drm-pqwi-fhx?pin=4786606811811&hs
 =7\n\n如需详细了解 Google Meet，请访问：https://support.google.
 com/a/users/answer/9282720
LOCATION:อาคารเฉลิมพระเกียรติฯ
END:VEVENT
END:VCALENDAR
