BEGIN:VCALENDAR
VERSION:2.0
PRODID:-//chikkutakku.com//RDFCal 1.0//EN
X-WR-CALDESC:GoogleカレンダーやiCalendar形式情報を共有シェ
 アしましょう。近所のイベントから全国のイベントま
 で今日のイベント検索やスケジュールを決めるならち
 っくたっく
X-WR-CALNAME:ちっくたっく
X-WR-TIMEZONE:UTC
BEGIN:VEVENT
SUMMARY:Aコープ西都店
DTSTART;VALUE=DATE-TIME:20260520T020000Z
DTEND;VALUE=DATE-TIME:20260520T093000Z
UID:209298335812
DESCRIPTION:Aコープ西都店
LOCATION:〒881-0003 宮崎県西都市右松２１１１
END:VEVENT
END:VCALENDAR
